BEGIN:VCALENDAR
VERSION:2.0
PRODID:-//Koniag - ECPv6.15.20//NONSGML v1.0//EN
CALSCALE:GREGORIAN
METHOD:PUBLISH
X-WR-CALNAME:Koniag
X-ORIGINAL-URL:https://www.koniag.com
X-WR-CALDESC:Events for Koniag
REFRESH-INTERVAL;VALUE=DURATION:PT1H
X-Robots-Tag:noindex
X-PUBLISHED-TTL:PT1H
BEGIN:VTIMEZONE
TZID:America/Anchorage
BEGIN:DAYLIGHT
TZOFFSETFROM:-0900
TZOFFSETTO:-0800
TZNAME:AKDT
DTSTART:20240310T110000
END:DAYLIGHT
BEGIN:STANDARD
TZOFFSETFROM:-0800
TZOFFSETTO:-0900
TZNAME:AKST
DTSTART:20241103T100000
END:STANDARD
BEGIN:DAYLIGHT
TZOFFSETFROM:-0900
TZOFFSETTO:-0800
TZNAME:AKDT
DTSTART:20250309T110000
END:DAYLIGHT
BEGIN:STANDARD
TZOFFSETFROM:-0800
TZOFFSETTO:-0900
TZNAME:AKST
DTSTART:20251102T100000
END:STANDARD
BEGIN:DAYLIGHT
TZOFFSETFROM:-0900
TZOFFSETTO:-0800
TZNAME:AKDT
DTSTART:20260308T110000
END:DAYLIGHT
BEGIN:STANDARD
TZOFFSETFROM:-0800
TZOFFSETTO:-0900
TZNAME:AKST
DTSTART:20261101T100000
END:STANDARD
BEGIN:DAYLIGHT
TZOFFSETFROM:-0900
TZOFFSETTO:-0800
TZNAME:AKDT
DTSTART:20270314T110000
END:DAYLIGHT
BEGIN:STANDARD
TZOFFSETFROM:-0800
TZOFFSETTO:-0900
TZNAME:AKST
DTSTART:20271107T100000
END:STANDARD
END:VTIMEZONE
BEGIN:VEVENT
DTSTART;TZID=America/Anchorage:20250925T173000
DTEND;TZID=America/Anchorage:20250925T193000
DTSTAMP:20260419T222104
CREATED:20250626T194322Z
LAST-MODIFIED:20250626T194322Z
UID:14683-1758821400-1758828600@www.koniag.com
SUMMARY:Soldotna Townhall
DESCRIPTION:
URL:https://www.koniag.com/event/soldotna-townhall/
LOCATION:Soldotna Regional Sports Complex\, 538 Arena Ave.\, #8200\, Soldotna\, AK
CATEGORIES:Shareholder Event,Townhall Meeting
ORGANIZER;CN="Shareholder Services":MAILTO:shareholderinfo@koniag.com
END:VEVENT
BEGIN:VEVENT
DTSTART;TZID=America/Anchorage:20251004T080000
DTEND;TZID=America/Anchorage:20251004T110000
DTSTAMP:20260419T222104
CREATED:20250626T194413Z
LAST-MODIFIED:20250808T162530Z
UID:14685-1759564800-1759575600@www.koniag.com
SUMMARY:2025 Annual Meeting of Shareholders
DESCRIPTION:Doors Open/Registration Begins: 8 a.m. \nKodiak Dancers Performance: 9 a.m. \nAnnual Meeting: 9:30 a.m. \nLunch: Noon
URL:https://www.koniag.com/event/2025-annual-meeting-of-shareholders/
LOCATION:DoubleTree Suites by Hilton Hotel Seattle Airport – Southcenter\, 16500 Southcenter Parkway\, Seattle\, WA
CATEGORIES:Annual Meeting,Shareholder Event
ORGANIZER;CN="Shareholder Services":MAILTO:shareholderinfo@koniag.com
END:VEVENT
BEGIN:VEVENT
DTSTART;TZID=America/Anchorage:20251121T090000
DTEND;TZID=America/Anchorage:20251121T150000
DTSTAMP:20260419T222104
CREATED:20251120T190559Z
LAST-MODIFIED:20251120T191014Z
UID:14938-1763715600-1763737200@www.koniag.com
SUMMARY:Western Alaska Subsistence Food Drive — Kodiak
DESCRIPTION:
URL:https://www.koniag.com/event/western-alaska-subsistence-food-drive-kodiak/
LOCATION:Koniag\, 194 Alimaq Drive\, Kodiak\, AK
CATEGORIES:Shareholder Event
ORGANIZER;CN="Shareholder Services":MAILTO:shareholderinfo@koniag.com
END:VEVENT
BEGIN:VEVENT
DTSTART;TZID=America/Anchorage:20251122T130000
DTEND;TZID=America/Anchorage:20251122T160000
DTSTAMP:20260419T222104
CREATED:20251120T190343Z
LAST-MODIFIED:20251120T190343Z
UID:14934-1763816400-1763827200@www.koniag.com
SUMMARY:Anchorage Shareholder Services Clinic & Cultural Connection Event
DESCRIPTION:
URL:https://www.koniag.com/event/anchorage-shareholder-services-clinic-cultural-connection-event/
LOCATION:3800 Centerpoint Drive\, Second Floor\, Anchorage\, AK
CATEGORIES:Shareholder Event
ORGANIZER;CN="Shareholder Services":MAILTO:shareholderinfo@koniag.com
END:VEVENT
BEGIN:VEVENT
DTSTART;TZID=America/Anchorage:20251122T130000
DTEND;TZID=America/Anchorage:20251122T160000
DTSTAMP:20260419T222104
CREATED:20251120T190701Z
LAST-MODIFIED:20251120T190701Z
UID:14940-1763816400-1763827200@www.koniag.com
SUMMARY:Western Alaska Subsistence Food Drive — Anchorage
DESCRIPTION:
URL:https://www.koniag.com/event/western-alaska-subsistence-food-drive-anchorage/
LOCATION:3800 Centerpoint Drive\, Second Floor\, Anchorage\, AK
CATEGORIES:Shareholder Event
ORGANIZER;CN="Shareholder Services":MAILTO:shareholderinfo@koniag.com
END:VEVENT
BEGIN:VEVENT
DTSTART;TZID=America/Anchorage:20251206T110000
DTEND;TZID=America/Anchorage:20251206T140000
DTSTAMP:20260419T222104
CREATED:20251120T190140Z
LAST-MODIFIED:20251120T190140Z
UID:14932-1765018800-1765029600@www.koniag.com
SUMMARY:Seattle Shareholder & Descendant Holiday Party
DESCRIPTION:
URL:https://www.koniag.com/event/seattle-shareholder-descendant-holiday-party/
LOCATION:DoubleTree Suites by Hilton Hotel Seattle Airport – Southcenter\, 16500 Southcenter Parkway\, Seattle\, WA
CATEGORIES:Holiday Party,Shareholder Event
ORGANIZER;CN="Shareholder Services":MAILTO:shareholderinfo@koniag.com
END:VEVENT
BEGIN:VEVENT
DTSTART;TZID=America/Anchorage:20251212T170000
DTEND;TZID=America/Anchorage:20251212T200000
DTSTAMP:20260419T222104
CREATED:20251120T190033Z
LAST-MODIFIED:20251120T190033Z
UID:14930-1765558800-1765569600@www.koniag.com
SUMMARY:Anchorage Shareholder & Descendant Holiday Party
DESCRIPTION:
URL:https://www.koniag.com/event/anchorage-shareholder-descendant-holiday-party/
LOCATION:Dena’ina Civic and Convention Center\, 600 W. Seventh Ave.\, Anchorage\, AK
CATEGORIES:Holiday Party,Shareholder Event
ORGANIZER;CN="Shareholder Services":MAILTO:shareholderinfo@koniag.com
END:VEVENT
BEGIN:VEVENT
DTSTART;TZID=America/Anchorage:20260109T180000
DTEND;TZID=America/Anchorage:20260109T210000
DTSTAMP:20260419T222104
CREATED:20251223T201746Z
LAST-MODIFIED:20251223T201746Z
UID:14986-1767981600-1767992400@www.koniag.com
SUMMARY:2026 Praznyk Celebration
DESCRIPTION:
URL:https://www.koniag.com/event/2026-praznyk-celebration/
LOCATION:Kodiak Marketplace\, 111 W. Rezanof Drive\, Kodiak\, AK
CATEGORIES:Praznyk,Shareholder Event
ORGANIZER;CN="Shareholder Services":MAILTO:shareholderinfo@koniag.com
END:VEVENT
BEGIN:VEVENT
DTSTART;TZID=America/Anchorage:20260212T090000
DTEND;TZID=America/Anchorage:20260212T160000
DTSTAMP:20260419T222104
CREATED:20260202T222730Z
LAST-MODIFIED:20260202T222730Z
UID:15067-1770886800-1770912000@www.koniag.com
SUMMARY:Elder Winter Care Package Pickup — Kodiak
DESCRIPTION:
URL:https://www.koniag.com/event/elder-winter-care-package-pickup-kodiak/
LOCATION:Koniag\, 194 Alimaq Drive\, Kodiak\, AK
CATEGORIES:Shareholder Event
ORGANIZER;CN="Shareholder Services":MAILTO:shareholderinfo@koniag.com
END:VEVENT
BEGIN:VEVENT
DTSTART;TZID=America/Anchorage:20260213T090000
DTEND;TZID=America/Anchorage:20260213T160000
DTSTAMP:20260419T222104
CREATED:20260202T222811Z
LAST-MODIFIED:20260202T222811Z
UID:15069-1770973200-1770998400@www.koniag.com
SUMMARY:Elder Winter Care Package Pickup — Anchorage
DESCRIPTION:
URL:https://www.koniag.com/event/elder-winter-care-package-pickup-anchorage/
LOCATION:Koniag\, 3800 Centerpoint Drive\, Suite 700\, Anchorage\, AK
CATEGORIES:Shareholder Event
ORGANIZER;CN="Shareholder Services":MAILTO:shareholderinfo@koniag.com
END:VEVENT
BEGIN:VEVENT
DTSTART;TZID=America/Anchorage:20260519T113000
DTEND;TZID=America/Anchorage:20260519T130000
DTSTAMP:20260419T222104
CREATED:20260410T224654Z
LAST-MODIFIED:20260410T224654Z
UID:15096-1779190200-1779195600@www.koniag.com
SUMMARY:Elders’ Luncheon
DESCRIPTION:
URL:https://www.koniag.com/event/elders-luncheon/
LOCATION:Afognak Center\, 300 Alimaq Drive\, Kodiak\, AK
CATEGORIES:Shareholder Event
ORGANIZER;CN="Shareholder Services":MAILTO:shareholderinfo@koniag.com
END:VEVENT
END:VCALENDAR