BEGIN:VCALENDAR
VERSION:2.0
PRODID:-//Koniag - ECPv6.15.20//NONSGML v1.0//EN
CALSCALE:GREGORIAN
METHOD:PUBLISH
X-ORIGINAL-URL:https://www.koniag.com
X-WR-CALDESC:Events for Koniag
REFRESH-INTERVAL;VALUE=DURATION:PT1H
X-Robots-Tag:noindex
X-PUBLISHED-TTL:PT1H
BEGIN:VTIMEZONE
TZID:America/Anchorage
BEGIN:DAYLIGHT
TZOFFSETFROM:-0900
TZOFFSETTO:-0800
TZNAME:AKDT
DTSTART:20230312T110000
END:DAYLIGHT
BEGIN:STANDARD
TZOFFSETFROM:-0800
TZOFFSETTO:-0900
TZNAME:AKST
DTSTART:20231105T100000
END:STANDARD
BEGIN:DAYLIGHT
TZOFFSETFROM:-0900
TZOFFSETTO:-0800
TZNAME:AKDT
DTSTART:20240310T110000
END:DAYLIGHT
BEGIN:STANDARD
TZOFFSETFROM:-0800
TZOFFSETTO:-0900
TZNAME:AKST
DTSTART:20241103T100000
END:STANDARD
BEGIN:DAYLIGHT
TZOFFSETFROM:-0900
TZOFFSETTO:-0800
TZNAME:AKDT
DTSTART:20250309T110000
END:DAYLIGHT
BEGIN:STANDARD
TZOFFSETFROM:-0800
TZOFFSETTO:-0900
TZNAME:AKST
DTSTART:20251102T100000
END:STANDARD
BEGIN:DAYLIGHT
TZOFFSETFROM:-0900
TZOFFSETTO:-0800
TZNAME:AKDT
DTSTART:20260308T110000
END:DAYLIGHT
BEGIN:STANDARD
TZOFFSETFROM:-0800
TZOFFSETTO:-0900
TZNAME:AKST
DTSTART:20261101T100000
END:STANDARD
END:VTIMEZONE
BEGIN:VEVENT
DTSTART;VALUE=DATE:20241225
DTEND;VALUE=DATE:20250102
DTSTAMP:20260419T064004
CREATED:20240517T191109Z
LAST-MODIFIED:20241120T181947Z
UID:13330-1735084800-1735775999@www.koniag.com
SUMMARY:Christmas through New Year’s Day
DESCRIPTION:Offices closed
URL:https://www.koniag.com/event/christmas/
LOCATION:AK
CATEGORIES:Holiday
ORGANIZER;CN="Shareholder Info":MAILTO:shareholderinfo@koniag.com
END:VEVENT
BEGIN:VEVENT
DTSTART;TZID=America/Anchorage:20250119T180000
DTEND;TZID=America/Anchorage:20250120T000000
DTSTAMP:20260419T064004
CREATED:20241016T164020Z
LAST-MODIFIED:20250109T191204Z
UID:13767-1737309600-1737331200@www.koniag.com
SUMMARY:Koniag-KANA Russian New Year Praznyk
DESCRIPTION:
URL:https://www.koniag.com/event/koniag-kana-praznyk/
LOCATION:Kodiak Elks Lodge\, 102 W. Marine Way\, Kodiak\, AK
CATEGORIES:Praznyk,Shareholder Event
ORGANIZER;CN="Shareholder Info":MAILTO:shareholderinfo@koniag.com
END:VEVENT
BEGIN:VEVENT
DTSTART;VALUE=DATE:20250120
DTEND;VALUE=DATE:20250121
DTSTAMP:20260419T064004
CREATED:20241120T180918Z
LAST-MODIFIED:20241120T181958Z
UID:13859-1737331200-1737417599@www.koniag.com
SUMMARY:Martin Luther King Jr. Day
DESCRIPTION:Offices closed
URL:https://www.koniag.com/event/martin-luther-king-jr-day/
LOCATION:AK
CATEGORIES:Holiday
ORGANIZER;CN="Shareholder Info":MAILTO:shareholderinfo@koniag.com
END:VEVENT
BEGIN:VEVENT
DTSTART;VALUE=DATE:20250124
DTEND;VALUE=DATE:20250125
DTSTAMP:20260419T064004
CREATED:20250123T003248Z
LAST-MODIFIED:20250123T003319Z
UID:14015-1737676800-1737763199@www.koniag.com
SUMMARY:2025 Heritage Distribution
DESCRIPTION:
URL:https://www.koniag.com/event/2025-heritage-distribution/
LOCATION:AK
CATEGORIES:Heritage Distribution
ORGANIZER;CN="Shareholder Info":MAILTO:shareholderinfo@koniag.com
END:VEVENT
END:VCALENDAR